BEGIN:VCALENDAR
VERSION:2.0
PRODID:-//ChamberMaster//Event Calendar 2.0//EN
METHOD:PUBLISH
X-PUBLISHED-TTL:P3D
REFRESH-INTERVAL:P3D
CALSCALE:GREGORIAN
BEGIN:VEVENT
DTSTART:20180828T163000Z
DTEND:20180828T183000Z
X-MICROSOFT-CDO-ALLDAYEVENT:FALSE
SUMMARY:Estate Planning Teleconference
DESCRIPTION:Retirement Asset Planning For Estate Planners: Compelling Practical Advice.\n\nThe Community Foundation will host its first Cannon Estate Planning Teleconference for area professional advisors. Come connect and collaborate relevant issuse without the added expense of travel and accomondations.
X-ALT-DESC;FMTTYPE=text/html:Retirement Asset Planning For Estate Planners: Compelling Practical Advice.<br />\nThe Community Foundation will host its first Cannon Estate Planning Teleconference for area professional advisors. Come connect and collaborate relevant issuse without the added expense of travel and accomondations.
LOCATION:Institute for Advance Learning
UID:e.845.8485
SEQUENCE:3
DTSTAMP:20260421T220025Z
URL:https://business.halifaxchamber.net/events/details/estate-planning-teleconference-8485
END:VEVENT

END:VCALENDAR
