BEGIN:VCALENDAR
VERSION:2.0
PRODID:-//ChamberMaster//Event Calendar 2.0//EN
METHOD:PUBLISH
X-PUBLISHED-TTL:P3D
REFRESH-INTERVAL:P3D
CALSCALE:GREGORIAN
BEGIN:VEVENT
DTSTART:20190426T190000Z
DTEND:20190426T190000Z
X-MICROSOFT-CDO-ALLDAYEVENT:FALSE
SUMMARY:Eugene B. Casey Education & Event Center Grand Opening
DESCRIPTION:Please Join Patrick Henry's Red Hill for the\n\nGrand Opening of the Eugene B Casey Education & Event Center\n\nPlease RSVP to melissa@redhill.org
X-ALT-DESC;FMTTYPE=text/html:Please Join Patrick Henry&#39\;s Red Hill for the<br />\nGrand Opening of the Eugene B Casey Education &amp\; Event Center<br />\nPlease RSVP to melissa@redhill.org
LOCATION:Patrick Henry Memorial Foundation 1250 Red Hill Road Brookneal\, VA 24528
UID:e.845.12463
SEQUENCE:3
DTSTAMP:20260421T080026Z
URL:https://business.halifaxchamber.net/events/details/eugene-b-casey-education-event-center-grand-opening-12463
END:VEVENT

END:VCALENDAR
