BEGIN:VCALENDAR
VERSION:2.0
PRODID:-//ChamberMaster//Event Calendar 2.0//EN
METHOD:PUBLISH
X-PUBLISHED-TTL:P3D
REFRESH-INTERVAL:P3D
CALSCALE:GREGORIAN
BEGIN:VEVENT
DTSTART:20190427T150000Z
DTEND:20190427T190000Z
X-MICROSOFT-CDO-ALLDAYEVENT:FALSE
SUMMARY:Eugene B. Casey Education & Event Center Open House
DESCRIPTION:The Patrick Henry Memorial Foundation\, the National Memorial to Patrick Henry\, invites the public to come tour the newly constructed Eugene B. Casey Education and Event Center.
X-ALT-DESC;FMTTYPE=text/html:<span style="font-family:calibri\;"><span style="font-size:11.0pt\;">The Patrick Henry Memorial Foundation\, the National Memorial to Patrick Henry\, invites the public to come tour the newly constructed Eugene B. Casey Education and Event Center.</span></span>
LOCATION:Patrick Henry Memorial Foundation 1250 Red Hill Road Brookneal\, VA 24528
UID:e.845.12462
SEQUENCE:3
DTSTAMP:20260421T093851Z
URL:https://business.halifaxchamber.net/events/details/eugene-b-casey-education-event-center-open-house-12462
END:VEVENT

END:VCALENDAR
