BEGIN:VCALENDAR
VERSION:2.0
PRODID:-//ChamberMaster//Event Calendar 2.0//EN
METHOD:PUBLISH
X-PUBLISHED-TTL:P3D
REFRESH-INTERVAL:P3D
CALSCALE:GREGORIAN
BEGIN:VEVENT
DTSTART:20170311T000000Z
DTEND:20170311T040000Z
X-MICROSOFT-CDO-ALLDAYEVENT:FALSE
SUMMARY:Evening in Paris - Hospice Gala
DESCRIPTION:An evening in Paris presented by Sentara Halifax Hospice\n\nHeavy hors d'oeuveres\n\nMusic by the Pizazz Band\n\nOpen bar featuring beer and wine\n\nA live auction.
X-ALT-DESC;FMTTYPE=text/html:<span style="font-size:14px\;"><span style="font-family: 'San Francisco'\, -apple-system\, BlinkMacSystemFont\, '.SFNSText-Regular'\, sans-serif\; letter-spacing: -0.23999999463558197px\;">An evening in Paris presented by Sentara Halifax Hospice<br />\nHeavy hors d&#39\;oeuveres<br />\nMusic by the Pizazz Band<br />\nOpen bar featuring beer and wine<br />\nA&nbsp\;live auction.</span></span>
LOCATION:The Prizery 700 Bruce Street South Boston\, VA 24592
UID:e.845.5812
SEQUENCE:3
DTSTAMP:20260424T145313Z
URL:https://business.halifaxchamber.net/events/details/evening-in-paris-hospice-gala-5812
END:VEVENT

END:VCALENDAR
