BEGIN:VCALENDAR
VERSION:2.0
PRODID:-//ChamberMaster//Event Calendar 2.0//EN
METHOD:PUBLISH
X-PUBLISHED-TTL:P3D
REFRESH-INTERVAL:P3D
CALSCALE:GREGORIAN
BEGIN:VEVENT
DTSTART:20190520T213000Z
DTEND:20190520T230000Z
X-MICROSOFT-CDO-ALLDAYEVENT:FALSE
SUMMARY:Evening with an Entrepreneur with Rick Barker
DESCRIPTION:Join us for this new series highlighting successful entrepreneurs and their journeys along the way. Learn inspiring life lessons to support your own or other startups.\n\nWe will be featuring Rick Barker with Supply Resources Inc. and affiliates.\n\nRegister and learn more at https://bit.ly/2UHvAYy
X-ALT-DESC;FMTTYPE=text/html:Join us for this new series highlighting successful entrepreneurs and their journeys along the way. Learn inspiring life lessons to support your own or other startups.<br />\nWe will be featuring Rick Barker with Supply Resources Inc. and affiliates.<br />\nRegister and learn more at https://bit.ly/2UHvAYy
LOCATION:The Institute for Advanced Learning and Research 150 Slayton Ave. Danville\, VA 24540
UID:e.845.12492
SEQUENCE:3
DTSTAMP:20260421T062617Z
URL:https://business.halifaxchamber.net/events/details/evening-with-an-entrepreneur-with-rick-barker-12492
END:VEVENT

END:VCALENDAR
