BEGIN:VCALENDAR
VERSION:2.0
PRODID:-//ChamberMaster//Event Calendar 2.0//EN
METHOD:PUBLISH
X-PUBLISHED-TTL:P3D
REFRESH-INTERVAL:P3D
CALSCALE:GREGORIAN
BEGIN:VEVENT
DTSTART:20150616T223000Z
DTEND:20150617T000000Z
X-MICROSOFT-CDO-ALLDAYEVENT:FALSE
SUMMARY:Explore Health with Sentara - Health Night Out: The Skinny on Weight Loss Options
DESCRIPTION:Learn more about:\n\nWhat is obesity?\n\nMedical weight loss management options\n\nSurgical weight loss options\n\n\n\nGuest speaker: Dr. Stephen Wohlgemuth\n\nSentara Comprehensive Weight Loss Solutions
X-ALT-DESC;FMTTYPE=text/html:Learn more about:<br />\nWhat is obesity?<br />\nMedical weight loss management options<br />\nSurgical weight loss options<br />\n<br />\nGuest speaker: Dr. Stephen Wohlgemuth<br />\nSentara Comprehensive Weight Loss Solutions
LOCATION:Leggett Auditorium Sentara Halifax Regional Hospital
UID:e.845.3318
SEQUENCE:3
DTSTAMP:20260426T001610Z
URL:https://business.halifaxchamber.net/events/details/explore-health-with-sentara-health-night-out-the-skinny-on-weight-loss-options-06-16-2015-3318
END:VEVENT

END:VCALENDAR
