BEGIN:VCALENDAR
VERSION:2.0
PRODID:-//ChamberMaster//Event Calendar 2.0//EN
METHOD:PUBLISH
X-PUBLISHED-TTL:P3D
REFRESH-INTERVAL:P3D
CALSCALE:GREGORIAN
BEGIN:VEVENT
DTSTART:20190430T223000Z
DTEND:20190501T000000Z
X-MICROSOFT-CDO-ALLDAYEVENT:FALSE
SUMMARY:Explore Medicaid Waivers
DESCRIPTION:Do you/your child have a developmental disability?\n\nAre you or your family member in need of services such as respite\, personal care\, technology\, employment\, residential services\, nursing or behavioral support?\n\nDo you work with children or adults with disabilities?\n\nIf so\, find out about Medicaid Waivers for all ages.\n\nLearn about the DD and CCC Plus Medicaid Waiver Programs\, Services\, Eligibility\, Application Process and other resources.
X-ALT-DESC;FMTTYPE=text/html:Do you/your child have a developmental disability?<br />\nAre you or your family member in need of services such as respite\, personal care\, technology\, employment\, residential services\, nursing or behavioral support?<br />\nDo you work with children or adults with disabilities?<br />\nIf so\, find out about Medicaid Waivers for all ages.<br />\nLearn about the DD and CCC Plus Medicaid Waiver Programs\, Services\, Eligibility\, Application Process and other resources.
LOCATION:Leggett Auditorium\, Sentara Halifax Reginal Hospital 2204 Wilborn Avenue South Boston\, VA 24592
UID:e.845.12470
SEQUENCE:3
DTSTAMP:20260421T075754Z
URL:https://business.halifaxchamber.net/events/details/explore-medicaid-waivers-12470
END:VEVENT

END:VCALENDAR
