BEGIN:VCALENDAR
VERSION:2.0
PRODID:-//ChamberMaster//Event Calendar 2.0//EN
METHOD:PUBLISH
X-PUBLISHED-TTL:P3D
REFRESH-INTERVAL:P3D
CALSCALE:GREGORIAN
BEGIN:VEVENT
DTSTART:20170626T130000Z
DTEND:20170630T160000Z
X-MICROSOFT-CDO-ALLDAYEVENT:FALSE
SUMMARY:Explore Stem Summer Camp 2017
DESCRIPTION:Amiercorrps Explore STEM Summer Camp at the Southern Virginia Higher Education Center. Discover how fun and interactive Science\, Technology\, Engineering and Math can be! \n\nJune 26-30 from 9AM - Noon for students in grades 3-5. There is a $25.00 registration fee. Space is limited to 12 students. \n\nTo learn more or register online visit www.svhec.org/stemcamp
X-ALT-DESC;FMTTYPE=text/html:Amiercorrps Explore STEM Summer Camp at the Southern Virginia Higher Education Center. Discover how fun and interactive Science\, Technology\, Engineering and Math can be!&nbsp\;<br />\nJune 26-30 from 9AM - Noon for students in grades 3-5. There is a $25.00 registration fee.&nbsp\;Space is limited to 12 students.&nbsp\;<br />\nTo learn more or register online visit&nbsp\;<a href="http://www.svhec.org/stemcamp" rel="nofollow" style="color: rgb(54\, 88\, 153)\; cursor: pointer\; text-decoration: none\; font-family: 'San Francisco'\, -apple-system\, BlinkMacSystemFont\, '.SFNSText-Regular'\, sans-serif\; font-size: 14px\; letter-spacing: -0.23999999463558197px\;" target="_blank">www.svhec.org/stemcamp</a>
LOCATION:Southern Virginia Higher Education Center 820 Bruce Street South Boston\, VA
UID:e.845.5923
SEQUENCE:3
DTSTAMP:20260422T230343Z
URL:https://business.halifaxchamber.net/events/details/explore-stem-summer-camp-2017-5923
END:VEVENT

END:VCALENDAR
