BEGIN:VCALENDAR
VERSION:2.0
PRODID:-//ChamberMaster//Event Calendar 2.0//EN
METHOD:PUBLISH
X-PUBLISHED-TTL:P3D
REFRESH-INTERVAL:P3D
CALSCALE:GREGORIAN
BEGIN:VEVENT
DTSTART:20190301T140000Z
DTEND:20190301T220000Z
X-MICROSOFT-CDO-ALLDAYEVENT:FALSE
SUMMARY:Explore Welding
DESCRIPTION:Get a basic overview with hands-on practice in Stick\, MIG\, and TIG welding\, and Cutting with Plasma and Oxy-fuel. If your'e interested in welding but want to "get your feet wet" first\, this one day 8-hour class is for you.
X-ALT-DESC;FMTTYPE=text/html:Get a basic overview with hands-on practice in Stick\, MIG\, and TIG welding\, and Cutting with Plasma and Oxy-fuel. If your&#39\;e interested in welding but want to &quot\;get your feet wet&quot\; first\, this one day 8-hour class is for you.
LOCATION:Southern Virginia Higher Education Center
UID:e.845.11456
SEQUENCE:3
DTSTAMP:20260421T093406Z
URL:https://business.halifaxchamber.net/events/details/explore-welding-11456
END:VEVENT

END:VCALENDAR
