BEGIN:VCALENDAR
VERSION:2.0
PRODID:-//ChamberMaster//Event Calendar 2.0//EN
METHOD:PUBLISH
X-PUBLISHED-TTL:P3D
REFRESH-INTERVAL:P3D
CALSCALE:GREGORIAN
BEGIN:VEVENT
DTSTART:20191104T223000Z
DTEND:20191105T003000Z
X-MICROSOFT-CDO-ALLDAYEVENT:FALSE
SUMMARY:Facebook Deep Dive
DESCRIPTION:Learn how to use Facebook's tools to increase impact.\n\nWe'll cover:\n\n	Analyzing your current audience for sales on and off Facebook\n	Learning from past successes\n	Targeted Facebook advertising tools\n\nThis is an interactive class designed for businesses already using Facebook.\n\nBring your laptops to follow along and learn from your existing Facebook business page.\n\n\n\nRegistration is required to attend at:\n\n434.476.2343 or email townoffice@townofhalifax.com
X-ALT-DESC;FMTTYPE=text/html:Learn how to use Facebook&#39\;s tools to increase impact.<br />\nWe&#39\;ll cover:\n<ul>\n	<li>Analyzing your current audience for sales on and off Facebook</li>\n	<li>Learning from past successes</li>\n	<li>Targeted Facebook advertising tools</li>\n</ul>\nThis is an interactive class designed for businesses already using Facebook.<br />\nBring your laptops to follow along and learn from your existing Facebook business page.<br />\n<br />\nRegistration is required to attend at:<br />\n434.476.2343 or email townoffice@townofhalifax.com
LOCATION:Halifax STEM Center 315 South Main Street Halifax\, VA 24558
UID:e.845.13292
SEQUENCE:3
DTSTAMP:20260420T195708Z
URL:https://business.halifaxchamber.net/events/details/facebook-deep-dive-13292
END:VEVENT

END:VCALENDAR
