BEGIN:VCALENDAR
VERSION:2.0
PRODID:-//ChamberMaster//Event Calendar 2.0//EN
METHOD:PUBLISH
X-PUBLISHED-TTL:P3D
REFRESH-INTERVAL:P3D
CALSCALE:GREGORIAN
BEGIN:VEVENT
DTSTART:20161025T133000Z
DTEND:20161025T153000Z
X-MICROSOFT-CDO-ALLDAYEVENT:FALSE
SUMMARY:Facebook Small Business Bootcamp
DESCRIPTION:You know your ideal clients are on FACEBOOK. With over 1.5 billion users\, how do you find them? Learn how to optimize your business with FACEBOOK marketing at this "hands on" workshop.\n\nThis ADVANCED workshop will cover:\n\nThe basics of using FACEBOOK for business\n\nCreating posts that build your brand and turn your followers into buyers\n\nTips\, tricks and ways to optimize events\, groups and direct messaging\n\nHow to get more bang for your buck using FACEBOOK advertising\n\nYOU ARE REQUIRED TO BRING YOUR OWN LAPTOP AND YOU MUST HAVE AN ESTABLISHED BUSINESS FACEBOOK PAGE.\n\nSeating is limited to the first 10 registrations - online registration & pre-payment required to attend!
X-ALT-DESC;FMTTYPE=text/html:You know your ideal clients are on FACEBOOK. With over 1.5 billion users\, how do you find them? Learn how to optimize your business with FACEBOOK marketing at this &quot\;hands on&quot\; workshop.<br />\nThis ADVANCED workshop will cover:<br />\nThe basics of using FACEBOOK for business<br />\nCreating posts that build your brand and turn your followers into buyers<br />\nTips\, tricks and ways to optimize events\, groups and direct messaging<br />\nHow to get more bang for your buck using FACEBOOK advertising<br />\nYOU ARE REQUIRED TO BRING YOUR OWN LAPTOP AND YOU MUST HAVE AN ESTABLISHED BUSINESS FACEBOOK PAGE.<br />\nSeating is limited to the first 10 registrations - online registration &amp\; pre-payment required to attend!<br />\n&nbsp\;
LOCATION:Southern Virginia Higher Education Center 820 Bruce Street South Boston\, VA 24592
UID:e.845.5706
SEQUENCE:3
DTSTAMP:20260424T211127Z
URL:https://business.halifaxchamber.net/events/details/facebook-small-business-bootcamp-5706
END:VEVENT

END:VCALENDAR
