BEGIN:VCALENDAR
VERSION:2.0
PRODID:-//ChamberMaster//Event Calendar 2.0//EN
METHOD:PUBLISH
X-PUBLISHED-TTL:P3D
REFRESH-INTERVAL:P3D
CALSCALE:GREGORIAN
BEGIN:VEVENT
DTSTART:20210508T160000Z
DTEND:20210508T160000Z
X-MICROSOFT-CDO-ALLDAYEVENT:FALSE
SUMMARY:Factory Street Brewing Company Grand Opening
DESCRIPTION:Grand Opening of Factory Street Brewing Company with Cooper's Landing food truck providing great food for the event.
X-ALT-DESC;FMTTYPE=text/html:<span style="color: rgb(5\, 5\, 5)\; font-family: system-ui\, -apple-system\, system-ui\, &quot\;.SFNSText-Regular&quot\;\, sans-serif\; font-size: 15px\;">Grand Opening of Factory Street Brewing Company with Cooper&#39\;s Landing food truck providing great food for the event.</span>
LOCATION:Factory Street Brewing Company 210 Factory Street South Boston\, VA 24592
UID:e.845.17995
SEQUENCE:3
DTSTAMP:20260419T142008Z
URL:https://business.halifaxchamber.net/events/details/factory-street-brewing-company-grand-opening-17995
END:VEVENT

END:VCALENDAR
