BEGIN:VCALENDAR
VERSION:2.0
PRODID:-//ChamberMaster//Event Calendar 2.0//EN
METHOD:PUBLISH
X-PUBLISHED-TTL:P3D
REFRESH-INTERVAL:P3D
CALSCALE:GREGORIAN
BEGIN:VEVENT
DTSTART:20170610T120000Z
DTEND:20170610T150000Z
X-MICROSOFT-CDO-ALLDAYEVENT:FALSE
SUMMARY:Fairy Garden Contest
DESCRIPTION:Master Gardeners - Fairy Garden Contest at the Town of Halifax Farmers Market
X-ALT-DESC;FMTTYPE=text/html:Master Gardeners - Fairy Garden Contest at the Town of Halifax Farmers Market
LOCATION:Town of Halifax Farmers Market 209 South Main St. Halifax\, VA 24558
UID:e.845.5840
SEQUENCE:3
DTSTAMP:20260422T231128Z
URL:https://business.halifaxchamber.net/events/details/fairy-garden-contest-5840
END:VEVENT

END:VCALENDAR
