BEGIN:VCALENDAR
VERSION:2.0
PRODID:-//ChamberMaster//Event Calendar 2.0//EN
METHOD:PUBLISH
X-PUBLISHED-TTL:P3D
REFRESH-INTERVAL:P3D
CALSCALE:GREGORIAN
BEGIN:VEVENT
DTSTART:20171102T140000Z
DTEND:20171102T190000Z
X-MICROSOFT-CDO-ALLDAYEVENT:FALSE
SUMMARY:Fall Bazaar at The Woodview
DESCRIPTION:Please join Sentara Woodview for their Annual Fall Bazaar\, November 2nd from 10 a.m. to 3 p.m. The Fall Bazaar is located in Sentara Woodview's Dinning Hall. All vendors are required to register for this event\, please call 434-517-7532 for more information.
X-ALT-DESC;FMTTYPE=text/html:<span style="color: rgb(75\, 79\, 86)\; font-family: &quot\;SF Optimized&quot\;\, system-ui\, -apple-system\, system-ui\, &quot\;.SFNSText-Regular&quot\;\, sans-serif\; font-size: 14px\; letter-spacing: -0.12px\;">Please join Sentara Woodview for their Annual Fall Bazaar\, November 2nd from 10 a.m. to 3 p.m. The Fall Bazaar is located in Sentara Woodview&#39\;s Dinning Hall. All vendors are required to register for this event\, please call 434-517-7532 for more information.</span>
LOCATION:The Woodview 103 Rosehill Drive South Boston\, VA
UID:e.845.7119
SEQUENCE:3
DTSTAMP:20260422T120823Z
URL:https://business.halifaxchamber.net/events/details/fall-bazaar-at-the-woodview-7119
END:VEVENT

END:VCALENDAR
