BEGIN:VCALENDAR
VERSION:2.0
PRODID:-//ChamberMaster//Event Calendar 2.0//EN
METHOD:PUBLISH
X-PUBLISHED-TTL:P3D
REFRESH-INTERVAL:P3D
CALSCALE:GREGORIAN
BEGIN:VEVENT
DTSTART:20180922T163000Z
DTEND:20180922T171500Z
X-MICROSOFT-CDO-ALLDAYEVENT:FALSE
SUMMARY:Fall Foliage
DESCRIPTION:Park Explorers Outpost\n\n \n\nAs the seasons are beginning to change\, it is no doubt that fall is the best time to view the leaves around us. Seeking these changing leaves has become a popular hobby for nature enthusiasts\, photographers\, and painters. Bright hues of green that surround us slowly fade to golden yellows and oranges and deep reds. The South Boston   Halifax County Museum has invited Staunton River Battlefield State Park Ranger Ethan Armistead to explain why leaves change color. On September 22nd\, Ranger Armistead will share the secrets of the leaves in two programs. The first program for children ages 13 and under will last from 12:30 PM   1:15 PM. The second program for teens and adults will run from 2 PM   3 PM.
X-ALT-DESC;FMTTYPE=text/html:<a name="_MailOriginalBody">Park Explorers Outpost</a><br />\n&nbsp\;<br />\nAs the seasons are beginning to change\, it is no doubt that fall is the best time to view the leaves around us. Seeking these changing leaves has become a popular hobby for nature enthusiasts\, photographers\, and painters. Bright hues of green that surround us slowly fade to golden yellows and oranges and deep reds. The South Boston &ndash\; Halifax County Museum has invited Staunton River Battlefield State Park Ranger Ethan Armistead to explain why leaves change color. On September 22nd\, Ranger Armistead will share the secrets of the leaves in two programs. The first program for children ages 13 and under will last from 12:30 PM &ndash\; 1:15 PM. The second program for teens and adults will run from 2 PM &ndash\; 3 PM.<br />\n&nbsp\;
LOCATION:The South Boston - Halifax County Museum
UID:e.845.8514
SEQUENCE:3
DTSTAMP:20260421T190148Z
URL:https://business.halifaxchamber.net/events/details/fall-foliage-8514
END:VEVENT

END:VCALENDAR
