BEGIN:VCALENDAR
VERSION:2.0
PRODID:-//ChamberMaster//Event Calendar 2.0//EN
METHOD:PUBLISH
X-PUBLISHED-TTL:P3D
REFRESH-INTERVAL:P3D
CALSCALE:GREGORIAN
BEGIN:VEVENT
DTSTART:20191123T230000Z
DTEND:20191124T010000Z
X-MICROSOFT-CDO-ALLDAYEVENT:FALSE
SUMMARY:Fall Paint & Sip
DESCRIPTION:Art Acoustix and the World of Sports present Paint & Sip Saturday\, November 23rd at 6:00.  Get your friends together for a fun evening out. Choose from one of the two fall theme paintings and sip on your favorite beverages.\n\n\n\n$30 ticket includes 11x4 canvas and a $10 beverage voucher. \n\n\n\nRegister by November 18th by Contacting Melissa at (434) 755-7141
X-ALT-DESC;FMTTYPE=text/html:Art Acoustix and the World of Sports present Paint &amp\; Sip Saturday\, November 23rd at 6:00. &nbsp\;Get your friends together for a fun evening out. Choose from one of the two fall theme paintings and sip on your favorite beverages.<br />\n<br />\n$30 ticket includes 11x4 canvas and a $10 beverage voucher.&nbsp\;<br />\n<br />\nRegister by November 18th by Contacting Melissa at (434) 755-7141
LOCATION:World of Sports 2030 Bill Tuck Highway South Boston\, VA 24592
UID:e.845.15521
SEQUENCE:3
DTSTAMP:20260420T195707Z
URL:https://business.halifaxchamber.net/events/details/fall-paint-sip-15521
END:VEVENT

END:VCALENDAR
