BEGIN:VCALENDAR
VERSION:2.0
PRODID:-//ChamberMaster//Event Calendar 2.0//EN
METHOD:PUBLISH
X-PUBLISHED-TTL:P3D
REFRESH-INTERVAL:P3D
CALSCALE:GREGORIAN
BEGIN:VEVENT
DTSTART:20171022T000000Z
DTEND:20171022T030000Z
X-MICROSOFT-CDO-ALLDAYEVENT:FALSE
SUMMARY:Fall Star Party
DESCRIPTION:Fall Star Party Public Night \n\n\n\nMingle with amateur astronomers to learn about and view planets\, stars\, nebulae and galaxies. Dress for the weather and bring a flashlight\, preferable one with red lens. Red cellophane will be provided for those who don't have a red lanes. \n\n\n\nParking will be at the Dan River boat launch and then you will be bussed to the observing field.
X-ALT-DESC;FMTTYPE=text/html:Fall Star Party Public Night&nbsp\;<br />\n<br />\nMingle with amateur astronomers to learn about and view planets\, stars\, nebulae and galaxies. Dress for the weather and bring a flashlight\, preferable one with red lens. Red cellophane will be provided for those who don&#39\;t have a red lanes.&nbsp\;<br />\n<br />\nParking will be at the Dan River boat launch and then you will be bussed&nbsp\;to the observing field.
LOCATION:Staunton River State Park 1170 Staunton Trail Scottsburg\, VA 24589
UID:e.845.7035
SEQUENCE:3
DTSTAMP:20260422T135240Z
URL:https://business.halifaxchamber.net/events/details/fall-star-party-7035
END:VEVENT

END:VCALENDAR
