BEGIN:VCALENDAR
VERSION:2.0
PRODID:-//ChamberMaster//Event Calendar 2.0//EN
METHOD:PUBLISH
X-PUBLISHED-TTL:P3D
REFRESH-INTERVAL:P3D
CALSCALE:GREGORIAN
BEGIN:VEVENT
DTSTART:20170408T180000Z
DTEND:20170408T193000Z
X-MICROSOFT-CDO-ALLDAYEVENT:FALSE
SUMMARY:Family Art Day at the Prizery
DESCRIPTION:Second Saturday Family Art Day at the Prizery\n\n\n\nChildren ages 4-12 and their parents/grownups are invited to register for a fun afternoon of creating take-home Springtime art projects with Ms. Susi Robbins.\n\n\n\nNot only will this be an opportunity to create artwork to keep and to share\, families will learn how to do more projects together at home\, and grownups will get tips for using art to deepen communication with their children -- of any age.\n\n\n\nCall Art Instructor Susi Robbins to register: (434) 222-5167\n\nor email Catherine@prizery.com
X-ALT-DESC;FMTTYPE=text/html:Second Saturday Family Art Day at the Prizery<br />\n<br />\nChildren ages 4-12 and their parents/grownups are invited to register for a fun afternoon of creating take-home Springtime art projects with Ms. Susi Robbins.<br />\n<br />\nNot only will this be an opportunity to create artwork to keep and to share\, families will learn how to do more projects together at home\, and grownups will get tips for using art to deepen communication with their children -- of any age.<br />\n<br />\nCall Art Instructor Susi Robbins to register: (434) 222-5167<br />\nor email Catherine@prizery.com<br />\n<br />\n&nbsp\;
LOCATION:The Prizery 700 Bruce Street South Boston\, VA 24592
UID:e.845.5894
SEQUENCE:3
DTSTAMP:20260424T115138Z
URL:https://business.halifaxchamber.net/events/details/family-art-day-at-the-prizery-5894
END:VEVENT

END:VCALENDAR
