BEGIN:VCALENDAR
VERSION:2.0
PRODID:-//ChamberMaster//Event Calendar 2.0//EN
METHOD:PUBLISH
X-PUBLISHED-TTL:P3D
REFRESH-INTERVAL:P3D
CALSCALE:GREGORIAN
BEGIN:VEVENT
DTSTART:20170513T180000Z
DTEND:20170513T193000Z
X-MICROSOFT-CDO-ALLDAYEVENT:FALSE
SUMMARY:Family Art Day at the Prizery
DESCRIPTION:Second Saturday Family Art Day at the Prizery\n\n\n\nChildren ages 4-12 and their parents/grownups are invited to register for a fun afternoon of creating take-home Springtime art projects with Ms. Susi Robbins.\n\n\n\nNot only will this be an opportunity to create artwork to keep and to share\, families will learn how to do more projects together at home\, and grownups will get tips for using art to deepen communication with their children -- of any age.\n\n\n\nCall Art Instructor Susi Robbins to register: (434) 222-5167\n\n or email Catherine@prizery.com
X-ALT-DESC;FMTTYPE=text/html:Second Saturday Family Art Day at the&nbsp\;Prizery<br />\n<br />\nChildren ages 4-12 and their parents/grownups are invited to register for a fun afternoon of creating take-home Springtime art&nbsp\;projects with Ms.&nbsp\;Susi&nbsp\;Robbins.<br />\n<br />\nNot only will this be an opportunity to create artwork to keep and to share\, families will learn how to do&nbsp\;more projects together at home\, and grownups will get tips for using art to deepen communication with their children -- of any age.<br />\n<br />\nCall Art Instructor&nbsp\;Susi&nbsp\;Robbins to register: (434) 222-5167<br />\n&#8203\;or email Catherine@prizery.com<br />\n&nbsp\;
LOCATION:The Prizery 700 Brice Street South Boston\, VA 24592
UID:e.845.5895
SEQUENCE:3
DTSTAMP:20260422T233034Z
URL:https://business.halifaxchamber.net/events/details/family-art-day-at-the-prizery-5895
END:VEVENT

END:VCALENDAR
