BEGIN:VCALENDAR
VERSION:2.0
PRODID:-//ChamberMaster//Event Calendar 2.0//EN
METHOD:PUBLISH
X-PUBLISHED-TTL:P3D
REFRESH-INTERVAL:P3D
CALSCALE:GREGORIAN
BEGIN:VEVENT
DTSTART:20161104T130000Z
DTEND:20161104T160000Z
X-MICROSOFT-CDO-ALLDAYEVENT:FALSE
SUMMARY:Faneuil Job Fair
DESCRIPTION:Want to work 8-5 PM with NO weekends!!\n\nCall Center Customer Service Representatives & Bilingual Customer Service Representatives - South Boston!\n\nIf you are able to understand customer needs and exercise independent thinking to exceed the customer's expectations and experiences\, THEN WE ARE LOOKING FOR YOU !
X-ALT-DESC;FMTTYPE=text/html:Want to work 8-5 PM with NO weekends!!<br />\nCall Center Customer Service Representatives &amp\; Bilingual Customer Service Representatives - South Boston!<br />\nIf you are able to understand customer needs and exercise independent thinking to exceed the customer&#39\;s expectations and experiences\,&nbsp\;THEN WE ARE LOOKING FOR YOU !<br />\n&nbsp\;
LOCATION:South Boston Workforce Center 2506 Houghton Ave. South Boston\, VA 24592
UID:e.845.5739
SEQUENCE:3
DTSTAMP:20260424T193413Z
URL:https://business.halifaxchamber.net/events/details/faneuil-job-fair-5739
END:VEVENT

END:VCALENDAR
