BEGIN:VCALENDAR
VERSION:2.0
PRODID:-//ChamberMaster//Event Calendar 2.0//EN
METHOD:PUBLISH
X-PUBLISHED-TTL:P3D
REFRESH-INTERVAL:P3D
CALSCALE:GREGORIAN
BEGIN:VEVENT
DTSTART:20161107T180000Z
DTEND:20161107T210000Z
X-MICROSOFT-CDO-ALLDAYEVENT:FALSE
SUMMARY:Faneuil Job Fair
DESCRIPTION:Want to work 8 -5 PM with NO weekends! Call Center Customer Service Representatives & Bilingual Customer Service Representatives - South Boston!\n\nIf you are able to understand customer needs and exercise independent thinking to exceed the customer's expectations and experiences\, THEN WE ARE LOOKING FOR YOU !
X-ALT-DESC;FMTTYPE=text/html:Want to work 8 -5 PM with NO weekends! Call Center Customer Service Representatives &amp\; Bilingual Customer Service Representatives - South Boston!<br />\nIf you are able to understand customer needs and exercise independent thinking to exceed the customer&#39\;s expectations and experiences\, THEN WE ARE LOOKING FOR YOU !<br />\n&nbsp\;
LOCATION:South Boston Workforce Center 2506 Houghton Ave South Boston\, VA 24592
UID:e.845.5740
SEQUENCE:3
DTSTAMP:20260424T193316Z
URL:https://business.halifaxchamber.net/events/details/faneuil-job-fair-5740
END:VEVENT

END:VCALENDAR
