BEGIN:VCALENDAR
VERSION:2.0
PRODID:-//ChamberMaster//Event Calendar 2.0//EN
METHOD:PUBLISH
X-PUBLISHED-TTL:P3D
REFRESH-INTERVAL:P3D
CALSCALE:GREGORIAN
BEGIN:VEVENT
DTSTART:20170712T140000Z
DTEND:20170712T180000Z
X-MICROSOFT-CDO-ALLDAYEVENT:FALSE
SUMMARY:Faneuil's Hiring Event
DESCRIPTION:Faneuil is looking for Call Center Customer Service Representatives that are detail oriented\, flexible\, and customer focused to join their team.\n\n	Inbound customer service\n	Competitive wage of $9.50/hr\, bilingual $14/hr\n	Benefits including medical\, dental\, vacation and sick time (after 90 days)\n	Full time shifts Monday-Friday 8:00AM - 5:00PM
X-ALT-DESC;FMTTYPE=text/html:Faneuil is looking for Call Center Customer Service Representatives that are detail oriented\, flexible\, and customer focused to join their team.\n<ul>\n	<li>Inbound customer service</li>\n	<li>Competitive wage of $9.50/hr\, bilingual $14/hr</li>\n	<li>Benefits including medical\, dental\, vacation and sick time (after 90 days)</li>\n	<li>Full time shifts Monday-Friday 8:00AM - 5:00PM</li>\n</ul>\n
LOCATION:South Boston Workforce Center 2506 Houghton Avenue South Boston\, VA 24592
UID:e.845.7018
SEQUENCE:3
DTSTAMP:20260422T194133Z
URL:https://business.halifaxchamber.net/events/details/faneuil-s-hiring-event-7018
END:VEVENT

END:VCALENDAR
