BEGIN:VCALENDAR
VERSION:2.0
PRODID:-//ChamberMaster//Event Calendar 2.0//EN
METHOD:PUBLISH
X-PUBLISHED-TTL:P3D
REFRESH-INTERVAL:P3D
CALSCALE:GREGORIAN
BEGIN:VEVENT
DTSTART:20190618T210000Z
DTEND:20190618T230000Z
X-MICROSOFT-CDO-ALLDAYEVENT:FALSE
SUMMARY:Farm Credit Customer Appreciation Event
DESCRIPTION:As a cooperative\, our customers are owners of the association\, so every year we say thank you with our local customer appreciation events.\n\nPlease join us to celebrate you!
X-ALT-DESC;FMTTYPE=text/html:<span style="color: rgb(34\, 34\, 34)\; font-family: myriad-pro\, sans-serif\; font-size: 16px\;">As a cooperative\, our customers are owners of the association\, so&nbsp\;every year we say thank you with our local customer appreciation events.<br />\nPlease join us to celebrate you!</span>
LOCATION:Edmunds Memorial Park 3164 Dan River Church Road South Boston\, VA 24592
UID:e.845.13161
SEQUENCE:3
DTSTAMP:20260421T044216Z
URL:https://business.halifaxchamber.net/events/details/farm-credit-customer-appreciation-event-13161
END:VEVENT

END:VCALENDAR
