BEGIN:VCALENDAR
VERSION:2.0
PRODID:-//ChamberMaster//Event Calendar 2.0//EN
METHOD:PUBLISH
X-PUBLISHED-TTL:P3D
REFRESH-INTERVAL:P3D
CALSCALE:GREGORIAN
BEGIN:VEVENT
DTSTART:20171026T120000Z
DTEND:20171027T210000Z
X-MICROSOFT-CDO-ALLDAYEVENT:FALSE
SUMMARY:Farmer Veteran Training
DESCRIPTION:Two days of training for Veterans that are currently farming or interesting in entering into farming or other agribusiness.
X-ALT-DESC;FMTTYPE=text/html:Two days of training for Veterans that are currently farming or interesting in entering into farming or other agribusiness.&nbsp\;
LOCATION:Hudson Heritage Farms 14242 River Road South Boston\, VA
UID:e.845.7105
SEQUENCE:3
DTSTAMP:20260422T135327Z
URL:https://business.halifaxchamber.net/events/details/farmer-veteran-training-7105
END:VEVENT

END:VCALENDAR
