BEGIN:VCALENDAR
VERSION:2.0
PRODID:-//ChamberMaster//Event Calendar 2.0//EN
METHOD:PUBLISH
X-PUBLISHED-TTL:P3D
REFRESH-INTERVAL:P3D
CALSCALE:GREGORIAN
BEGIN:VEVENT
DTSTART:20170520T110000Z
DTEND:20170520T160000Z
X-MICROSOFT-CDO-ALLDAYEVENT:FALSE
SUMMARY:Farmers Market Stroll Saturday
DESCRIPTION:The public is invited to a the Inaugural Halifax County Market Stroll this Saturday\, May 20 at the Downtown South Boston Farmers Market. Come enjoy music\, and as always\, lots of home grown and homemade goodies from people you know and trust.  The market will be open beginning at 7:00 am until the farmers sell out of \n\nmixed greens\, collards\, spring onions\, cucumbers\, zucchini\, cabbage\, broccoli\, beets\, asparagus\, strawberries\, honey\, dried mushrooms\, baked goods\, chicken & duck eggs\, bedding plants\, vegetable & herb starts\, ferns\, flowers and more! \n\n\n\nThe Bluegrass Five will perform from 10 am - 11 am. Come early and enjoy yourself! The Farmers Market is located at 300 Broad Street in the parking lot behind Caffe Peroni and Distinct Impressions. \n\n\n\nBuy Fresh.....Buy Local!!
X-ALT-DESC;FMTTYPE=text/html:<span style="color:#000000\;"><big style="color: rgb(0\, 0\, 0)\; font-family: -webkit-standard\; text-align: -webkit-center\;"><font face="Arial" size="2"><big>The public is invited to a&nbsp\;the Inaugural&nbsp\;Halifax County Market Stroll&nbsp\;this&nbsp\;Saturday\,&nbsp\;May 20&nbsp\;at the Downtown South Boston Farmers Market. Come enjoy music\, and as always\, lots of home grown and homemade goodies from people you know and trust.&nbsp\; The market will be open beginning at 7:00 am until the farmers sell out of&nbsp\;</big></font></big><br style="color: rgb(0\, 0\, 0)\; font-family: -webkit-standard\; text-align: -webkit-center\;" />\n<span style="font-family: -webkit-standard\; font-size: medium\; text-align: -webkit-center\;">mixed greens\, collards\, spring onions\, cucumbers\, zucchini\, cabbage\, broccoli\, beets\, asparagus\, strawberries\, honey\, dried mushrooms\, baked goods\, chicken &amp\; duck eggs\, bedding plants\, vegetable &amp\; herb starts\, ferns\, flowers and more!</span><big style="color: rgb(0\, 0\, 0)\; font-family: -webkit-standard\; text-align: -webkit-center\;"><font face="Arial" size="2"><big>&nbsp\;<br />\n<br />\nThe Bluegrass Five will perform from 10 am - 11 am.&nbsp\;</big></font></big><font face="Arial" size="2" style="text-align: -webkit-center\;"><big><font face="Arial" size="2"><big>Come early and enjoy yourself! The Farmers Market is located at 300 Broad Street in the parking lot behind Caffe Peroni&nbsp\;and&nbsp\;Distinct Impressions.&nbsp\;</big></font></big></font><br />\n<br />\n<font face="Arial" size="2" style="text-align: -webkit-center\;"><big><font face="Arial" size="2"><big>Buy Fresh.....Buy Local!!</big></font></big></font></span>
LOCATION:South Boston Farmers Market 300 Broad Street South Boston\, VA
UID:e.845.5921
SEQUENCE:3
DTSTAMP:20260422T232756Z
URL:https://business.halifaxchamber.net/events/details/farmers-market-stroll-saturday-5921
END:VEVENT

END:VCALENDAR
