BEGIN:VCALENDAR
VERSION:2.0
PRODID:-//ChamberMaster//Event Calendar 2.0//EN
METHOD:PUBLISH
X-PUBLISHED-TTL:P3D
REFRESH-INTERVAL:P3D
CALSCALE:GREGORIAN
BEGIN:VEVENT
DTSTART:20210620T180000Z
DTEND:20210620T180000Z
X-MICROSOFT-CDO-ALLDAYEVENT:FALSE
SUMMARY:Father's Day Long Drive Challenge
DESCRIPTION:Come join the Fathers Day Long Drive Challenge! Each contestant hits three golf balls and the longest drive wins! We have prizes for 1st\, 2nd and 3rd place. We have clubs onsite that contestants are welcome to use\; the contest starts at 2:00PM. Enjoy wine and show us your skills\, free to participate!
X-ALT-DESC;FMTTYPE=text/html:<span style="color: rgb(5\, 5\, 5)\; font-family: system-ui\, -apple-system\, system-ui\, &quot\;.SFNSText-Regular&quot\;\, sans-serif\; font-size: 15px\;">Come join the Fathers Day Long Drive Challenge! Each contestant hits three golf balls and the longest drive wins! We have prizes for 1st\, 2nd and 3rd place. We have clubs onsite that contestants are welcome to use\; the contest starts at 2:00PM. Enjoy wine and show us your skills\, free to participate!</span>
LOCATION:Hunting Creek Vineyards 2000 Addie Williams Trail Clover\, VA 24534
UID:e.845.18025
SEQUENCE:3
DTSTAMP:20260419T123746Z
URL:https://business.halifaxchamber.net/events/details/father-s-day-long-drive-challenge-18025
END:VEVENT

END:VCALENDAR
