BEGIN:VCALENDAR
VERSION:2.0
PRODID:-//ChamberMaster//Event Calendar 2.0//EN
METHOD:PUBLISH
X-PUBLISHED-TTL:P3D
REFRESH-INTERVAL:P3D
CALSCALE:GREGORIAN
BEGIN:VEVENT
DTSTART:20210612T120000Z
DTEND:20210612T163000Z
X-MICROSOFT-CDO-ALLDAYEVENT:FALSE
SUMMARY:Father's Day Mug Coloring
DESCRIPTION:Join the Halifax Market Place for this kids workshop inside at the back of the market. Color your own Father's Day Mug - $6.
X-ALT-DESC;FMTTYPE=text/html:Join the Halifax Market Place for this kids workshop inside at the back of the market. Color your own Father&#39\;s Day Mug - $6.
LOCATION:Halifax Market Place 209 S. Main St. Halifax\, VA 24558
UID:e.845.18029
SEQUENCE:3
DTSTAMP:20260419T140841Z
URL:https://business.halifaxchamber.net/events/details/father-s-day-mug-coloring-18029
END:VEVENT

END:VCALENDAR
