BEGIN:VCALENDAR
VERSION:2.0
PRODID:-//ChamberMaster//Event Calendar 2.0//EN
METHOD:PUBLISH
X-PUBLISHED-TTL:P3D
REFRESH-INTERVAL:P3D
CALSCALE:GREGORIAN
BEGIN:VEVENT
DTSTART:20200229T013000Z
DTEND:20200229T043000Z
X-MICROSOFT-CDO-ALLDAYEVENT:FALSE
SUMMARY:FATZ Live at the World of Sports
DESCRIPTION:Hey to my SoBo and Halifax county friends. FATZ is coming to town at JB's on Friday February 28\, 2020. Come join us for a great night of a wide variety of your favorites\, and maybe a few surprises. We can't wait to see y'all SoBo!!
X-ALT-DESC;FMTTYPE=text/html:<span style="color:rgb(29\, 33\, 41)\; font-family:system-ui\,-apple-system\,blinkmacsystemfont\,.sfnstext-regular\,sans-serif\; font-size:14px">Hey to my SoBo and Halifax county friends. FATZ is coming to town at JB&#39\;s on Friday February 28\, 2020. Come join us for a great night of a wide variety of your favorites\, and maybe a few surprises. We can&#39\;t wait to see y&#39\;all SoBo!!</span>
LOCATION:World of Sports 2030 Bill Tuck Highway South Boston\, VA 24592
UID:e.845.17487
SEQUENCE:3
DTSTAMP:20260420T152148Z
URL:https://business.halifaxchamber.net/events/details/fatz-live-at-the-world-of-sports-17487
END:VEVENT

END:VCALENDAR
