BEGIN:VCALENDAR
VERSION:2.0
PRODID:-//ChamberMaster//Event Calendar 2.0//EN
METHOD:PUBLISH
X-PUBLISHED-TTL:P3D
REFRESH-INTERVAL:P3D
CALSCALE:GREGORIAN
BEGIN:VEVENT
DTSTART:20191114T233000Z
DTEND:20191114T233000Z
X-MICROSOFT-CDO-ALLDAYEVENT:FALSE
SUMMARY:"Feeding the Army of Northern Virginia" at SBHC Museum
DESCRIPTION:Guest speaker and writer Michael Hardy and a new exhibit will appear at the museum.\n\nHardy will portray how Lee's army transported rations and supplies to sustain a military unit numbering nearly 100\,000 strong at its height.
X-ALT-DESC;FMTTYPE=text/html:Guest speaker and writer Michael Hardy and a new exhibit will appear at the museum.<br />\nHardy will portray how Lee&#39\;s army transported rations and supplies to sustain a military unit numbering nearly 100\,000 strong at its height.
LOCATION:South Boston Halifax County Museum of Fine Arts & History 1540 Wolborn Ave South Boston\, VA 24592
UID:e.845.15527
SEQUENCE:3
DTSTAMP:20260420T200531Z
URL:https://business.halifaxchamber.net/events/details/feeding-the-army-of-northern-virginia-at-sbhc-museum-15527
END:VEVENT

END:VCALENDAR
