BEGIN:VCALENDAR
VERSION:2.0
PRODID:-//ChamberMaster//Event Calendar 2.0//EN
METHOD:PUBLISH
X-PUBLISHED-TTL:P3D
REFRESH-INTERVAL:P3D
CALSCALE:GREGORIAN
BEGIN:VEVENT
DTSTART:20210508T160000Z
DTEND:20210508T190000Z
X-MICROSOFT-CDO-ALLDAYEVENT:FALSE
SUMMARY:Financial Aid Saturday
DESCRIPTION:To assist students who have not already done so to take advantage of this available funding\, the TRIO EOC team will host "Financial Aid Saturday: Get Money for School" on April 24 and May 8. The events will take place on the SVHEC campus from noon until 3 p.m.\n\nFinancial aid and college representatives will be on-site to help students complete the FAFSA form\, start the college enrollment process\, apply for scholarships\, and supply information on SVHEC job training programs.\n\n\n\nFor more information on the upcoming Financial Aid Saturday event and the services offered by the EOC\, or to make an appointment\, call Younger at 434-572-5479 or email camille.younger@danville.edu.
X-ALT-DESC;FMTTYPE=text/html:<p style="box-sizing: border-box\; margin-top: 0px\; margin-bottom: 0.9375rem\; color: rgb(77\, 77\, 77)\; font-family: TrebuchetMS\, Helvetica\, sans-serif\; font-size: 15px\;">To assist students who have not already done so to take advantage of this available funding\, the TRIO EOC team will host &ldquo\;Financial Aid Saturday: Get Money for School&rdquo\; on April 24 and May 8. The events will take place on the SVHEC campus from noon until 3 p.m.</p>\n\n<p style="box-sizing: border-box\; margin-top: 0px\; margin-bottom: 0.9375rem\; color: rgb(77\, 77\, 77)\; font-family: TrebuchetMS\, Helvetica\, sans-serif\; font-size: 15px\;">Financial aid and college representatives will be on-site to help students complete the FAFSA form\, start the college enrollment process\, apply for scholarships\, and supply information on SVHEC job training programs.<br />\n<br />\n<span style="color: rgb(77\, 77\, 77)\; font-family: TrebuchetMS\, Helvetica\, sans-serif\; font-size: 15px\;">For more information on the upcoming Financial Aid Saturday event and the services offered by the EOC\, or to make an appointment\, call Younger at 434-572-5479 or email&nbsp\;</span><a class="mail-link" data-enc-email="pnzvyyr.lbhatre[at]qnaivyyr.rqh" data-wpel-link="ignore" style="box-sizing: border-box\; color: rgb(0\, 172\, 220)\; transition-property: color\; transition-duration: 0.15s\; transition-timing-function: cubic-bezier(0.77\, 0\, 0.175\, 1)\; font-family: TrebuchetMS\, Helvetica\, sans-serif\; font-size: 15px\;">camille.younger@danville.edu</a><span style="color: rgb(77\, 77\, 77)\; font-family: TrebuchetMS\, Helvetica\, sans-serif\; font-size: 15px\;">.</span></p>\n
LOCATION:Southern Virginia Higher Education Center 820 Bruce Street South Boston\, VA 24592
UID:e.845.17970
SEQUENCE:3
DTSTAMP:20260419T141536Z
URL:https://business.halifaxchamber.net/events/details/financial-aid-saturday-17970
END:VEVENT

END:VCALENDAR
