BEGIN:VCALENDAR
VERSION:2.0
PRODID:-//ChamberMaster//Event Calendar 2.0//EN
METHOD:PUBLISH
X-PUBLISHED-TTL:P3D
REFRESH-INTERVAL:P3D
CALSCALE:GREGORIAN
BEGIN:VEVENT
DTSTART:20201113T220000Z
DTEND:20201114T170000Z
X-MICROSOFT-CDO-ALLDAYEVENT:FALSE
SUMMARY:First Annual Holiday Fete
DESCRIPTION:Join us to kick off the holiday season with our local artists!! They will be displaying and selling their work at the shop Friday evening and Saturday morning - perfect for gift-giving!\n\n\n\nSign up at http://www.amandadayrose.com/shop/2020/9/15/mjgpbqelv0xo48kiuad0gj5k7k6feb
X-ALT-DESC;FMTTYPE=text/html:<span style="color: rgb(5\, 5\, 5)\; font-family: system-ui\, -apple-system\, system-ui\, &quot\;.SFNSText-Regular&quot\;\, sans-serif\; font-size: 15px\;">Join us to kick off the holiday season with our local artists!! They will be displaying and selling their work at the shop Friday evening and Saturday morning - perfect for gift-giving!<br />\n<br />\nSign up at&nbsp\;<a href="http://www.amandadayrose.com/shop/2020/9/15/mjgpbqelv0xo48kiuad0gj5k7k6feb">http://www.amandadayrose.com/shop/2020/9/15/mjgpbqelv0xo48kiuad0gj5k7k6feb</a></span>
LOCATION:Wister's 441 Main St South Boston\, VA 24592
UID:e.845.17777
SEQUENCE:3
DTSTAMP:20260419T234655Z
URL:https://business.halifaxchamber.net/events/details/first-annual-holiday-fete-17777
END:VEVENT

END:VCALENDAR
