BEGIN:VCALENDAR
VERSION:2.0
PRODID:-//ChamberMaster//Event Calendar 2.0//EN
METHOD:PUBLISH
X-PUBLISHED-TTL:P3D
REFRESH-INTERVAL:P3D
CALSCALE:GREGORIAN
BEGIN:VEVENT
DTSTART:20210604T213000Z
DTEND:20210604T213000Z
X-MICROSOFT-CDO-ALLDAYEVENT:FALSE
SUMMARY:First Fridays - Red Bank Revival
DESCRIPTION:Visit The Prizery for their socially distanced outdoor concert series. June will be featuring The Red Bank Revival. Food will be available for purchase from Smok'n Butts Slow N' Low.
X-ALT-DESC;FMTTYPE=text/html:Visit The Prizery for their socially distanced outdoor concert series. June will be featuring The Red Bank Revival. Food will be available for purchase from Smok&#39\;n Butts Slow N&#39\; Low.
LOCATION:The Prizery Parking Lot 700 Bruce Street South Boston\, VA 24592
UID:e.845.17975
SEQUENCE:3
DTSTAMP:20260419T123951Z
URL:https://business.halifaxchamber.net/events/details/first-fridays-red-bank-revival-17975
END:VEVENT

END:VCALENDAR
