BEGIN:VCALENDAR
VERSION:2.0
PRODID:-//ChamberMaster//Event Calendar 2.0//EN
METHOD:PUBLISH
X-PUBLISHED-TTL:P3D
REFRESH-INTERVAL:P3D
CALSCALE:GREGORIAN
BEGIN:VEVENT
DTSTART:20190829T150000Z
DTEND:20190829T170000Z
X-MICROSOFT-CDO-ALLDAYEVENT:FALSE
SUMMARY:First Responders Appreciation Grab & Go Lunch
DESCRIPTION:All members of the Police\, Fire\, and EMT Departments stop by Heritage Hall for a free boxed lunch to go!\n\n	Club Sandwich\n	Macaroni Salad\n	Assorted Chips\n	Chocolate Chip Cookie\n	Water\n\nSponsored by Heritage Hall - Brookneal
X-ALT-DESC;FMTTYPE=text/html:All members of the Police\, Fire\, and EMT Departments stop by Heritage Hall for a free boxed lunch to go!\n<ul>\n	<li>Club Sandwich</li>\n	<li>Macaroni Salad</li>\n	<li>Assorted Chips</li>\n	<li>Chocolate Chip Cookie</li>\n	<li>Water</li>\n</ul>\nSponsored by Heritage Hall - Brookneal
LOCATION:Heritage Hall Brookneal 633 Cook Ave. Brookneal\, VA
UID:e.845.13277
SEQUENCE:3
DTSTAMP:20260421T012237Z
URL:https://business.halifaxchamber.net/events/details/first-responders-appreciation-grab-go-lunch-13277
END:VEVENT

END:VCALENDAR
