BEGIN:VCALENDAR
VERSION:2.0
PRODID:-//ChamberMaster//Event Calendar 2.0//EN
METHOD:PUBLISH
X-PUBLISHED-TTL:P3D
REFRESH-INTERVAL:P3D
CALSCALE:GREGORIAN
BEGIN:VEVENT
DTSTART:20200104T140000Z
DTEND:20200104T163000Z
X-MICROSOFT-CDO-ALLDAYEVENT:FALSE
SUMMARY:First Robotics 2020 Season Kickoff
DESCRIPTION:Tour the shop and pit\, enjoy a robot demonstration\, and talk with members about what they do. Watch a live global broadcast of this season's challenge.
X-ALT-DESC;FMTTYPE=text/html:Tour the shop and pit\, enjoy a robot demonstration\, and talk with members about what they do. Watch a live global broadcast of this season&#39\;s challenge.
LOCATION:HCHS Auditorium 1 Circle Drive South Boston\, VA 24592
UID:e.845.15586
SEQUENCE:3
DTSTAMP:20260420T182943Z
URL:https://business.halifaxchamber.net/events/details/first-robotics-2020-season-kickoff-15586
END:VEVENT

END:VCALENDAR
