BEGIN:VCALENDAR
VERSION:2.0
PRODID:-//ChamberMaster//Event Calendar 2.0//EN
METHOD:PUBLISH
X-PUBLISHED-TTL:P3D
REFRESH-INTERVAL:P3D
CALSCALE:GREGORIAN
BEGIN:VEVENT
DTSTART:20191019T160000Z
DTEND:20191019T210000Z
X-MICROSOFT-CDO-ALLDAYEVENT:FALSE
SUMMARY:Flavors of Fall at Hunting Creek Vineyards
DESCRIPTION:Enjoy live music\, and food flowers and wine available for purchase at Hunting Creek Vineyards. \n\nChili Cook Off winner will receive a $25 Gift Certificate from Hunting Creek as well as Deb's Daylilies. Help select the winner! \n\nDeb's Daylilies will bring pumpkins\, plants\, and rustic decor for purchase.\n\nVisit www.hcvwines.com or call (434) 454-9219
X-ALT-DESC;FMTTYPE=text/html:Enjoy live music\, and food flowers and wine available for purchase at Hunting Creek Vineyards.&nbsp\;<br />\nChili Cook Off winner will receive a $25 Gift Certificate from Hunting Creek as well as Deb&#39\;s Daylilies. Help select the winner!&nbsp\;<br />\nDeb&#39\;s Daylilies will bring pumpkins\, plants\, and rustic decor for purchase.<br />\nVisit www.hcvwines.com or call (434) 454-9219
LOCATION:Hunting Creek Vineyards 2000 Addie Williams Trail Clover\, VA 24534
UID:e.845.14477
SEQUENCE:3
DTSTAMP:20260420T234533Z
URL:https://business.halifaxchamber.net/events/details/flavors-of-fall-at-hunting-creek-vineyards-14477
END:VEVENT

END:VCALENDAR
