BEGIN:VCALENDAR
VERSION:2.0
PRODID:-//ChamberMaster//Event Calendar 2.0//EN
METHOD:PUBLISH
X-PUBLISHED-TTL:P3D
REFRESH-INTERVAL:P3D
CALSCALE:GREGORIAN
BEGIN:VEVENT
DTSTART:20190524T170000Z
DTEND:20190524T170000Z
X-MICROSOFT-CDO-ALLDAYEVENT:FALSE
SUMMARY:Fourth Fridays - Job Seeker Workshops
DESCRIPTION:Join Virginia Career Works for their "Fourth Fridays" job seeker workshops.\n\n\n\n"Utilizing Labor Market Informations to Guide Employment and Training Decisions"\n\n\n\nPlease register at our front desk or by phone at 434.572.8064
X-ALT-DESC;FMTTYPE=text/html:<span style="font-size:14px\;">Join Virginia Career Works for their &quot\;Fourth Fridays&quot\; job seeker workshops.</span><br />\n<br />\n&quot\;Utilizing Labor Market Informations to Guide Employment and Training Decisions&quot\;<br />\n<br />\nPlease register at our front desk or by phone at 434.572.8064
LOCATION:Virginia Career Works South Boston Center 2506 Houghton Ave. South Boston\, VA 24592
UID:e.845.13141
SEQUENCE:3
DTSTAMP:20260421T062834Z
URL:https://business.halifaxchamber.net/events/details/fourth-fridays-job-seeker-workshops-13141
END:VEVENT

END:VCALENDAR
