BEGIN:VCALENDAR
VERSION:2.0
PRODID:-//ChamberMaster//Event Calendar 2.0//EN
METHOD:PUBLISH
X-PUBLISHED-TTL:P3D
REFRESH-INTERVAL:P3D
CALSCALE:GREGORIAN
BEGIN:VEVENT
DTSTART:20160223T140000Z
DTEND:20160224T010000Z
X-MICROSOFT-CDO-ALLDAYEVENT:FALSE
SUMMARY:Free Budgeting Workshop
DESCRIPTION:This Budgeting Workshop will give participants practical tips to identify money management problems and get back on track. Through this interactive workshop\, participants will get the tools they need to create a financial plan that works for them.
X-ALT-DESC;FMTTYPE=text/html:This Budgeting Workshop will give participants practical tips to identify money management problems and get back on track. Through this interactive workshop\, participants will get the tools they need to create a financial plan that works for them.
LOCATION:SVHEC- Innovation Center
UID:e.845.4573
SEQUENCE:3
DTSTAMP:20260425T111236Z
URL:https://business.halifaxchamber.net/events/details/free-budgeting-workshop-02-23-2016-4573
END:VEVENT

END:VCALENDAR
