BEGIN:VCALENDAR
VERSION:2.0
PRODID:-//ChamberMaster//Event Calendar 2.0//EN
METHOD:PUBLISH
X-PUBLISHED-TTL:P3D
REFRESH-INTERVAL:P3D
CALSCALE:GREGORIAN
BEGIN:VEVENT
DTSTART:20191207T150000Z
DTEND:20191207T220000Z
X-MICROSOFT-CDO-ALLDAYEVENT:FALSE
SUMMARY:Free Family Christmas Photos
DESCRIPTION:Get you free family Christmas photo at Schewels! Every family will receive (1) 5x7.
X-ALT-DESC;FMTTYPE=text/html:Get you free family Christmas photo at Schewels! Every family will receive (1) 5x7.
LOCATION:Schewels South Boston 3211 Halifax Road South Boston\, VA 24592
UID:e.845.15577
SEQUENCE:3
DTSTAMP:20260420T183314Z
URL:https://business.halifaxchamber.net/events/details/free-family-christmas-photos-15577
END:VEVENT

END:VCALENDAR
