BEGIN:VCALENDAR
VERSION:2.0
PRODID:-//ChamberMaster//Event Calendar 2.0//EN
METHOD:PUBLISH
X-PUBLISHED-TTL:P3D
REFRESH-INTERVAL:P3D
CALSCALE:GREGORIAN
BEGIN:VEVENT
DTSTART:20191026T130000Z
DTEND:20191026T170000Z
X-MICROSOFT-CDO-ALLDAYEVENT:FALSE
SUMMARY:Free Flu Shots
DESCRIPTION:Southside Health District will be providing free flu sots to anyone age 18 or older.\n\nFor more information contact the Halifax County Health Department at 434.476.4863
X-ALT-DESC;FMTTYPE=text/html:Southside Health District will be providing free flu sots to anyone age 18 or older.<br />\nFor more information contact the Halifax County Health Department at 434.476.4863
LOCATION:Halifax County Health Department 1030 Cowford Road Halifax\, VA 24558
UID:e.845.14489
SEQUENCE:3
DTSTAMP:20260420T215634Z
URL:https://business.halifaxchamber.net/events/details/free-flu-shots-14489
END:VEVENT

END:VCALENDAR
