BEGIN:VCALENDAR
VERSION:2.0
PRODID:-//ChamberMaster//Event Calendar 2.0//EN
METHOD:PUBLISH
X-PUBLISHED-TTL:P3D
REFRESH-INTERVAL:P3D
CALSCALE:GREGORIAN
BEGIN:VEVENT
DTSTART:20190213T160000Z
DTEND:20190213T200000Z
X-MICROSOFT-CDO-ALLDAYEVENT:FALSE
SUMMARY:Free Massage YMCA
DESCRIPTION:Free Massage This Wednesday Pre Valentine's Day Chair Massages . Starting at 11 AM 10 Minute massages.\n\nMembers and non-members welcome
X-ALT-DESC;FMTTYPE=text/html:Free Massage This Wednesday Pre Valentine&#39\;s Day Chair Massages . Starting at 11 AM 10 Minute massages.<br />\nMembers and non-members welcome&nbsp\;
LOCATION:YMCA South Boston/Halifax County
UID:e.845.12030
SEQUENCE:3
DTSTAMP:20260421T105715Z
URL:https://business.halifaxchamber.net/events/details/free-massage-ymca-12030
END:VEVENT

END:VCALENDAR
