BEGIN:VCALENDAR
VERSION:2.0
PRODID:-//ChamberMaster//Event Calendar 2.0//EN
METHOD:PUBLISH
X-PUBLISHED-TTL:P3D
REFRESH-INTERVAL:P3D
CALSCALE:GREGORIAN
BEGIN:VEVENT
DTSTART:20200924T200000Z
DTEND:20200924T230000Z
X-MICROSOFT-CDO-ALLDAYEVENT:FALSE
SUMMARY:Free Paper Shredding
DESCRIPTION:Halifax County Residents..Looking for a safe way to get rid of confidential information?\n\nWE CAN HELP YOU!\n\nBring those unwanted papers\n\nShredded on-site\n\nDrive-thru service\n\nFollow directional signage\n\nFor more information call 434-476-2343
X-ALT-DESC;FMTTYPE=text/html:<div class="kvgmc6g5 cxmmr5t8 oygrvhab hcukyx3x c1et5uql" style="overflow-wrap: break-word\; margin: 0px\; font-family: system-ui\, -apple-system\, system-ui\, &quot\;.SFNSText-Regular&quot\;\, sans-serif\; color: rgb(5\, 5\, 5)\; font-size: 15px\;">Halifax County Residents..Looking for a safe way to get rid of confidential information?<br />\nWE CAN HELP YOU!<br />\nBring those unwanted papers<br />\nShredded on-site<br />\nDrive-thru service<br />\nFollow directional signage</div>\n\n<div class="o9v6fnle cxmmr5t8 oygrvhab hcukyx3x c1et5uql" style="overflow-wrap: break-word\; margin: 0.5em 0px 0px\; font-family: system-ui\, -apple-system\, system-ui\, &quot\;.SFNSText-Regular&quot\;\, sans-serif\; color: rgb(5\, 5\, 5)\; font-size: 15px\;">For more information call 434-476-2343</div>\n
LOCATION:Halifax Market Place 209 South Main St. Halifax\, VA 24558
UID:e.845.17730
SEQUENCE:3
DTSTAMP:20260420T031736Z
URL:https://business.halifaxchamber.net/events/details/free-paper-shredding-17730
END:VEVENT

END:VCALENDAR
