BEGIN:VCALENDAR
VERSION:2.0
PRODID:-//ChamberMaster//Event Calendar 2.0//EN
METHOD:PUBLISH
X-PUBLISHED-TTL:P3D
REFRESH-INTERVAL:P3D
CALSCALE:GREGORIAN
BEGIN:VEVENT
DTSTART:20190419T230000Z
DTEND:20190420T003000Z
X-MICROSOFT-CDO-ALLDAYEVENT:FALSE
SUMMARY:Friday By the Fire
DESCRIPTION:Welcome to Staunton River State Park. Every Friday during Spring Break you are invited to join us around the campfire. You'll get to meet park staff and other campers as we tell campfire stories\, sing songs\, eat s'mores and learn how to build the perfect campfire. Do you have a delicious recipe to make the perfect s'more? Bring it over with you and show off your amazing s'more construction skills. \n\nThe campfire will take place in the fire ring behind the Visitor Center.\n\nAlso\, don't forget to look up and enjoy the beautiful night sky. With Staunton River being an international dark sky park you can see stars and constellations here that you may not see anywhere else.\n\nMaterials for s'mores will be provided by the park.\n\nNo fee for this program.
X-ALT-DESC;FMTTYPE=text/html:<span style="font-family: Geneva\, Arial\, Helvetica\, sans-serif\; font-size: 14px\; background-color: rgb(255\, 255\, 255)\;">Welcome to Staunton River State Park. Every Friday during Spring Break you are invited to join us around the campfire. You&#39\;ll get to meet park staff and other campers as we tell campfire stories\, sing songs\, eat s&#39\;mores and learn how to build the perfect campfire. Do you have a delicious recipe to make the perfect s&#39\;more? Bring it over with you and show off your amazing s&#39\;more construction skills.&nbsp\;</span><br style="font-family: Geneva\, Arial\, Helvetica\, sans-serif\; font-size: 14px\;" />\n<span style="font-family: Geneva\, Arial\, Helvetica\, sans-serif\; font-size: 14px\; background-color: rgb(255\, 255\, 255)\;">The campfire will take place in the fire ring behind the Visitor Center.</span><br style="font-family: Geneva\, Arial\, Helvetica\, sans-serif\; font-size: 14px\;" />\n<span style="font-family: Geneva\, Arial\, Helvetica\, sans-serif\; font-size: 14px\; background-color: rgb(255\, 255\, 255)\;">Also\, don&#39\;t forget to look up and enjoy the beautiful night sky. With Staunton River being an international dark sky park you can see stars and constellations here that you may not see anywhere else.</span><br style="font-family: Geneva\, Arial\, Helvetica\, sans-serif\; font-size: 14px\;" />\n<span style="font-family: Geneva\, Arial\, Helvetica\, sans-serif\; font-size: 14px\; background-color: rgb(255\, 255\, 255)\;">Materials for s&#39\;mores will be provided by the park.</span><br style="font-family: Geneva\, Arial\, Helvetica\, sans-serif\; font-size: 14px\;" />\n<span style="font-family: Geneva\, Arial\, Helvetica\, sans-serif\; font-size: 14px\; background-color: rgb(255\, 255\, 255)\;">No fee for this program.</span>
LOCATION:Fire Ring beside the Visitor Center Staunton River State Park Scottsburg\, VA 24589
UID:e.845.12394
SEQUENCE:3
DTSTAMP:20260421T075623Z
URL:https://business.halifaxchamber.net/events/details/friday-by-the-fire-12394
END:VEVENT

END:VCALENDAR
