BEGIN:VCALENDAR
VERSION:2.0
PRODID:-//ChamberMaster//Event Calendar 2.0//EN
METHOD:PUBLISH
X-PUBLISHED-TTL:P3D
REFRESH-INTERVAL:P3D
CALSCALE:GREGORIAN
BEGIN:VEVENT
DTSTART:20160805T233000Z
DTEND:20160806T030000Z
X-MICROSOFT-CDO-ALLDAYEVENT:FALSE
SUMMARY:Friday Night Concerts
DESCRIPTION:Friday Night Concerts presents Smith & Company. Sponsored by Berry Hill Resort & Conference Center and WAKG 103.3.\n\n\n\nLimited menu available
X-ALT-DESC;FMTTYPE=text/html:Friday Night Concerts presents Smith &amp\; Company. Sponsored by Berry Hill Resort &amp\; Conference Center and WAKG 103.3.<br />\n<br />\nLimited menu available
LOCATION:Darby's Courtyard Berry Hill Resort & Conference Center
UID:e.845.4690
SEQUENCE:3
DTSTAMP:20260425T003844Z
URL:https://business.halifaxchamber.net/events/details/friday-night-concerts-08-05-2016-4690
END:VEVENT

END:VCALENDAR
