BEGIN:VCALENDAR
VERSION:2.0
PRODID:-//ChamberMaster//Event Calendar 2.0//EN
METHOD:PUBLISH
X-PUBLISHED-TTL:P3D
REFRESH-INTERVAL:P3D
CALSCALE:GREGORIAN
BEGIN:VEVENT
DTSTART:20160819T233000Z
DTEND:20160820T030000Z
X-MICROSOFT-CDO-ALLDAYEVENT:FALSE
SUMMARY:Friday Night Concerts
DESCRIPTION:Friday Night Concerts presents The High Rock Ramblers. Sponsored by Berry Hill Resort & Conference Center and WAKG 103.3.
X-ALT-DESC;FMTTYPE=text/html:Friday Night Concerts presents The High Rock Ramblers. Sponsored by Berry Hill Resort &amp\; Conference Center and WAKG 103.3.
LOCATION:Darby's Courtyard Berry Hill Resort & Conference Center
UID:e.845.4691
SEQUENCE:3
DTSTAMP:20260425T003940Z
URL:https://business.halifaxchamber.net/events/details/friday-night-concerts-08-19-2016-4691
END:VEVENT

END:VCALENDAR
