BEGIN:VCALENDAR
VERSION:2.0
PRODID:-//ChamberMaster//Event Calendar 2.0//EN
METHOD:PUBLISH
X-PUBLISHED-TTL:P3D
REFRESH-INTERVAL:P3D
CALSCALE:GREGORIAN
BEGIN:VEVENT
DTSTART:20170602T220000Z
DTEND:20170603T020000Z
X-MICROSOFT-CDO-ALLDAYEVENT:FALSE
SUMMARY:Friday Night Jams
DESCRIPTION:Music\, Food & Drinks at the Town of Halifax Farmers Market.\n\nFeaturing Moonshine Son \n\nFood on Site
X-ALT-DESC;FMTTYPE=text/html:Music\, Food &amp\; Drinks at the Town of Halifax Farmers Market.<br />\nFeaturing Moonshine Son&nbsp\;<br />\nFood on Site
LOCATION:Town of Halifax Farmers Market 209 South Main St. Halifax\, VA 24558
UID:e.845.5839
SEQUENCE:3
DTSTAMP:20260422T230303Z
URL:https://business.halifaxchamber.net/events/details/friday-night-jams-5839
END:VEVENT

END:VCALENDAR
