BEGIN:VCALENDAR
VERSION:2.0
PRODID:-//ChamberMaster//Event Calendar 2.0//EN
METHOD:PUBLISH
X-PUBLISHED-TTL:P3D
REFRESH-INTERVAL:P3D
CALSCALE:GREGORIAN
BEGIN:VEVENT
DTSTART:20180817T220000Z
DTEND:20180818T030000Z
X-MICROSOFT-CDO-ALLDAYEVENT:FALSE
SUMMARY:Friday Night Jams
DESCRIPTION:Come out and enjoy music by Matt Boswell\, food by The Unique Q\, and beverages by Blue Ridge Beverage! Bring your lawn chair and dancing shoes. Tickets are $7.00 in advance and $10 at the gate. Kids 12 and under are free with a paid adult. Proper ID is required and no coolers are allowed. Gates open at 5:30. Tickets can be purchased at The Visitors Center\, Halifax Town Hall\, Hite Insurance\, or The Packhouse.
X-ALT-DESC;FMTTYPE=text/html:<span style="color: rgb(29\, 33\, 41)\; font-family: system-ui\, -apple-system\, system-ui\, &quot\;.SFNSText-Regular&quot\;\, sans-serif\; font-size: 14px\; font-variant-ligatures: normal\; orphans: 2\; widows: 2\; background-color: rgb(255\, 255\, 255)\;">Come out and enjoy music by Matt Boswell\, food by The Unique Q\, and beverages by Blue Ridge Beverage! Bring your lawn chair and dancing shoes. Tickets are $7.00 in advance and $10 at the gate. Kids 12 and under are free with a paid adult. Proper ID is required and no coolers are allowed. Gates open at 5:30. Tickets can be purchased at The Visitors Center\, Halifax Town Hall\, Hite Insurance\, or The Packhouse.</span>
LOCATION:Town of Halifax Farmers Market 209 S Main St. Halifax\, VA 24558
UID:e.845.8481
SEQUENCE:3
DTSTAMP:20260421T204007Z
URL:https://business.halifaxchamber.net/events/details/friday-night-jams-8481
END:VEVENT

END:VCALENDAR
