BEGIN:VCALENDAR
VERSION:2.0
PRODID:-//ChamberMaster//Event Calendar 2.0//EN
METHOD:PUBLISH
X-PUBLISHED-TTL:P3D
REFRESH-INTERVAL:P3D
CALSCALE:GREGORIAN
BEGIN:VEVENT
DTSTART:20181019T220000Z
DTEND:20181020T020000Z
X-MICROSOFT-CDO-ALLDAYEVENT:FALSE
SUMMARY:Friday Night Jams
DESCRIPTION:Friday Night Jams -  Featuring Applachian Express\n\nFOOD & BEVERGES AVAILABLE\n\nGates open at 5:30 (NO COOLERS ALLOWED) Proper ID required for alcohol consumption.
X-ALT-DESC;FMTTYPE=text/html:Friday Night Jams - &nbsp\;Featuring Applachian Express<br />\nFOOD &amp\; BEVERGES AVAILABLE<br />\nGates open at 5:30 (NO COOLERS ALLOWED) Proper ID required for alcohol consumption.
LOCATION:Town of Halifax Farmers Market Halifax\, VA
UID:e.845.8534
SEQUENCE:3
DTSTAMP:20260421T171104Z
URL:https://business.halifaxchamber.net/events/details/friday-night-jams-8534
END:VEVENT

END:VCALENDAR
