BEGIN:VCALENDAR
VERSION:2.0
PRODID:-//ChamberMaster//Event Calendar 2.0//EN
METHOD:PUBLISH
X-PUBLISHED-TTL:P3D
REFRESH-INTERVAL:P3D
CALSCALE:GREGORIAN
BEGIN:VEVENT
DTSTART:20180128T200000Z
DTEND:20180128T220000Z
X-MICROSOFT-CDO-ALLDAYEVENT:FALSE
SUMMARY:From Vienna to Paris - Matvey & Katya Lapin
DESCRIPTION:Among wonders of music\, there is a fascinating opportunity to travel through time and places. this time we are taking you from a romantic Vienna to ever elegant Paris\, few stops include Clarens\, Tallinn and St. Petersburg. Get on board!\n\n\n\nSchubert. Rondo Brilliant Part\, Mirror in Mirror Tchaikovsky\, Lensky's aria from Eugene Onegin\, Stravinsky\, Russian Song and Russian Dance Franck\, Sonata
X-ALT-DESC;FMTTYPE=text/html:Among wonders of music\, there is a fascinating opportunity to travel through time and places. this time we are taking you from a romantic Vienna to ever elegant Paris\, few stops include Clarens\, Tallinn and St. Petersburg. Get on board!<br />\n<br />\nSchubert. Rondo Brilliant Part\, Mirror in Mirror Tchaikovsky\, Lensky&#39\;s&nbsp\;aria from Eugene Onegin\, Stravinsky\, Russian Song and Russian Dance Franck\, Sonata
LOCATION:The Prizery 700 Bruce Street South Boston\, VA
UID:e.845.7196
SEQUENCE:3
DTSTAMP:20260422T104133Z
URL:https://business.halifaxchamber.net/events/details/from-vienna-to-paris-matvey-katya-lapin-7196
END:VEVENT

END:VCALENDAR
