BEGIN:VCALENDAR
VERSION:2.0
PRODID:-//ChamberMaster//Event Calendar 2.0//EN
METHOD:PUBLISH
X-PUBLISHED-TTL:P3D
REFRESH-INTERVAL:P3D
CALSCALE:GREGORIAN
BEGIN:VEVENT
DTSTART:20191123T200000Z
DTEND:20191123T213000Z
X-MICROSOFT-CDO-ALLDAYEVENT:FALSE
SUMMARY:Frozen 2 Paint Party
DESCRIPTION:Art Acoustic and World of Sports Present a FROZEN 2 Paint Party\, November\, 23rd at 3:00pm.\n\n\n\n$20 Ticket Includes 8x10 canvas and a $5 arcade card.\n\n\n\nRegister by November 18th by contacting Melissa at (434) 755-7141
X-ALT-DESC;FMTTYPE=text/html:Art Acoustic and World of Sports Present a FROZEN 2 Paint Party\, November\, 23rd at 3:00pm.<br />\n<br />\n$20 Ticket Includes 8x10 canvas and a $5 arcade card.<br />\n<br />\nRegister by November 18th by contacting Melissa at (434) 755-7141
LOCATION:World of Sports 2030 Bill Tuck Highway South Boston\, VA 24592
UID:e.845.15520
SEQUENCE:3
DTSTAMP:20260420T214838Z
URL:https://business.halifaxchamber.net/events/details/frozen-2-paint-party-15520
END:VEVENT

END:VCALENDAR
