BEGIN:VCALENDAR
VERSION:2.0
PRODID:-//ChamberMaster//Event Calendar 2.0//EN
METHOD:PUBLISH
X-PUBLISHED-TTL:P3D
REFRESH-INTERVAL:P3D
CALSCALE:GREGORIAN
BEGIN:VEVENT
DTSTART:20191122T000000Z
DTEND:20191122T020000Z
X-MICROSOFT-CDO-ALLDAYEVENT:FALSE
SUMMARY:Frozen II Early Release
DESCRIPTION:Be the first to see Frozen II!!!  Early Release showing scheduled for Thursday\, November 21st.\n\n\n\nTime: TBD
X-ALT-DESC;FMTTYPE=text/html:Be the first to see Frozen II!!! &nbsp\;Early Release showing scheduled for Thursday\, November 21st.<br />\n<br />\nTime: TBD
LOCATION:World of Sports 2030 Bill Tuck Highway South Boston\, VA 24592
UID:e.845.15516
SEQUENCE:3
DTSTAMP:20260420T214754Z
URL:https://business.halifaxchamber.net/events/details/frozen-ii-early-release-15516
END:VEVENT

END:VCALENDAR
